{"text_format":"1","workbook":"xlsx","n_sheets":2,"sheets":["CALCOLO SEGGI","VERBALE"],"not_rendered":{"charts":0,"images":0,"macros":1,"external_links":0,"defined_names":1,"comments":1,"pivot_tables":0},"unopened":[],"bounds":{"document_bytes":16777216,"sheet_cells":100000,"rows_first":2000,"rows_last":500,"rows_between":2000,"halvings":0,"cell_chars":16384,"cell_head_chars":4096},"cells_cut":0,"cells_raw":0,"read":"whole","date_system":"1900"}

{"sheet":"CALCOLO SEGGI","index":0,"n_rows":44,"n_cols":34,"rows_kept":44,"cut":false,"hidden":false,"merged":[[34,2,34,7],[4,2,5,2],[4,4,5,11],[4,13,5,15],[4,17,5,21],[15,19,16,19],[15,21,16,21],[7,11,9,11],[11,6,13,7],[15,11,16,11],[15,15,16,15],[15,17,16,17],[15,9,16,9],[35,9,37,9],[15,33,16,33],[15,31,16,31],[15,23,16,23],[15,25,16,25],[15,27,16,27],[15,29,16,29],[7,9,9,9],[11,9,13,9],[22,6,22,7],[24,6,24,7],[15,13,16,13],[28,6,28,7],[30,6,30,7],[32,6,32,7],[15,4,16,4],[7,7,9,7],[15,2,16,2],[15,6,16,7],[18,6,18,7],[20,6,20,7],[26,6,26,7]]}
[]
[]
[]
[]
[null,null,"ISTITUZIONE SCOLASTICA",null,null,null,null,null,null,null,null,null,null,"COMUNE",null,null,null,null,null,null,null,null,null,"Percentuale Schede Bianche",null,null,null,null,null,{"$f":"IF(E10=0,0,E12/E10)","v":0}]
[]
[]
[null,null,"Aventi diritto al Voto",null,null,4,{"$f":"E8/2","v":0},"Seggi da attibuire",null,{"$f":"IF(E8=0,0,IF(AND(E8>0,E8<201),3,6))","v":0},null,{"$f":"IF(E10<G8,\"Elezioni Non valide\",\"Quorum Raggiunto\")","v":"Quorum Raggiunto"},null,"Votanti Maschi",null,null,null,null,null,null,null,null,null,"Percentuale Schede Nulle",null,null,null,null,null,{"$f":"IF(E10=0,0,E14/E10)","v":0}]
[]
[null,null,"Numero di votanti",null,null,null,null,null,null,null,null,null,null,"Votanti Femmine"]
[]
[null,null,"Numero di Schede bianche",null,null,null,"Quorum per attribuzione seggi",null,null,{"$f":"IF(E10=0,0,E10/J8)","v":0}]
[]
[null,null,"Numero di Schede nulle"]
[]
[null,null,"OO. SS.",null,"Numero Lista",null,"ELENCO LISTE SU SCHEDA ELETTORALE",null,null,"Voti Ottenuti",null,"Percentuale",null,"Numero seggi",null,"1° Resto Voti",null,"Numero seggi",null,"2° Resto Voti",null,"Numero seggi",null,"3° Resto Voti",null,"Numero seggi",null,"4° Resto Voti",null,"Numero seggi",null,"Totale seggi Lista",null,"Le Liste con seggi"]
[]
[]
[null,null,null,null,1,null,{"$f":"IF(B36=0,\"No Lista\",UPPER(C19))","v":"No Lista"},null,null,null,null,{"$f":"IF(J19=0,0,(J19/$E$10))","v":0},null,{"$f":"IF(J19=0,0,INT(J19/$J$12))","v":0},null,{"$f":"IF(J19=0,0,MOD(J19,$J$12))","v":0},null,{"$f":"IF(J19=0,0,IF($P$35=0,0,IF(P19>=$P$35,1,0)))","v":0},null,{"$f":"IF(J19=0,0,IF(J19-((N19+R19)*$J$12)<0,0,J19-((N19+R19)*$J$12)))","v":0},null,{"$f":"IF(J19=0,0,IF($T$35=0,0,IF(T19>=$T$35,1,0)))","v":0},null,{"$f":"IF(J19=0,0,IF(J19-((N19+R19+V19)*$J$12)<0,0,J19-((N19+R19+V19)*$J$12)))","v":0},null,{"$f":"IF($X$35=0,0,IF(X19>=$X$35,1,0))","v":0},null,{"$f":"IF(J19=0,0,IF(J19-((N19+R19+V19+Z19)*$J$12)<0,0,J19-((N19+R19+V19+Z19)*$J$12)))","v":0},null,{"$f":"IF($AB$35=0,0,IF(AB19>=$AB$35,1,0))","v":0},null,{"$f":"N19+R19+V19+Z19+AD19","v":0},null,{"$f":"IF(AF19>0,CONCATENATE(\"LISTA \",E19),\"\")","v":""}]
[]
[null,null,null,null,2,null,{"$f":"IF(B37=0,\"No Lista\",UPPER(C21))","v":"No Lista"},null,null,null,28,{"$f":"IF(J21=0,0,(J21/$E$10))","v":0},null,{"$f":"IF(J21=0,0,INT(J21/$J$12))","v":0},null,{"$f":"IF(J21=0,0,MOD(J21,$J$12))","v":0},null,{"$f":"IF(J21=0,0,IF($P$35=0,0,IF(P21>=$P$35,1,0)))","v":0},null,{"$f":"IF(J21=0,0,IF(J21-((N21+R21)*$J$12)<0,0,J21-((N21+R21)*$J$12)))","v":0},null,{"$f":"IF(J21=0,0,IF($T$35=0,0,IF(T21>=$T$35,1,0)))","v":0},null,{"$f":"IF(J21=0,0,IF(J21-((N21+R21+V21)*$J$12)<0,0,J21-((N21+R21+V21)*$J$12)))","v":0},null,{"$f":"IF($X$35=0,0,IF(X21>=$X$35,1,0))","v":0},null,{"$f":"IF(J21=0,0,IF(J21-((N21+R21+V21+Z21)*$J$12)<0,0,J21-((N21+R21+V21+Z21)*$J$12)))","v":0},null,{"$f":"IF($AB$35=0,0,IF(AB21>=$AB$35,1,0))","v":0},null,{"$f":"N21+R21+V21+Z21+AD21","v":0},null,{"$f":"IF(AF21>0,CONCATENATE(\"LISTA \",E21),\"\")","v":""}]
[]
[null,null,null,null,3,null,{"$f":"IF(B38=0,\"No Lista\",UPPER(C23))","v":"No Lista"},null,null,null,null,{"$f":"IF(J23=0,0,(J23/$E$10))","v":0},null,{"$f":"IF(J23=0,0,INT(J23/$J$12))","v":0},null,{"$f":"IF(J23=0,0,MOD(J23,$J$12))","v":0},null,{"$f":"IF(J23=0,0,IF($P$35=0,0,IF(P23>=$P$35,1,0)))","v":0},null,{"$f":"IF(J23=0,0,IF(J23-((N23+R23)*$J$12)<0,0,J23-((N23+R23)*$J$12)))","v":0},null,{"$f":"IF(J23=0,0,IF($T$35=0,0,IF(T23>=$T$35,1,0)))","v":0},null,{"$f":"IF(J23=0,0,IF(J23-((N23+R23+V23)*$J$12)<0,0,J23-((N23+R23+V23)*$J$12)))","v":0},null,{"$f":"IF($X$35=0,0,IF(X23>=$X$35,1,0))","v":0},null,{"$f":"IF(J23=0,0,IF(J23-((N23+R23+V23+Z23)*$J$12)<0,0,J23-((N23+R23+V23+Z23)*$J$12)))","v":0},null,{"$f":"IF($AB$35=0,0,IF(AB23>=$AB$35,1,0))","v":0},null,{"$f":"N23+R23+V23+Z23+AD23","v":0},null,{"$f":"IF(AF23>0,CONCATENATE(\"LISTA \",E23),\"\")","v":""}]
[]
[null,null,null,null,4,null,{"$f":"IF(B39=0,\"No Lista\",UPPER(C25))","v":"No Lista"},null,null,null,7,{"$f":"IF(J25=0,0,(J25/$E$10))","v":0},null,{"$f":"IF(J25=0,0,INT(J25/$J$12))","v":0},null,{"$f":"IF(J25=0,0,MOD(J25,$J$12))","v":0},null,{"$f":"IF(J25=0,0,IF($P$35=0,0,IF(P25>=$P$35,1,0)))","v":0},null,{"$f":"IF(J25=0,0,IF(J25-((N25+R25)*$J$12)<0,0,J25-((N25+R25)*$J$12)))","v":0},null,{"$f":"IF(J25=0,0,IF($T$35=0,0,IF(T25>=$T$35,1,0)))","v":0},null,{"$f":"IF(J25=0,0,IF(J25-((N25+R25+V25)*$J$12)<0,0,J25-((N25+R25+V25)*$J$12)))","v":0},null,{"$f":"IF($X$35=0,0,IF(X25>=$X$35,1,0))","v":0},null,{"$f":"IF(J25=0,0,IF(J25-((N25+R25+V25+Z25)*$J$12)<0,0,J25-((N25+R25+V25+Z25)*$J$12)))","v":0},null,{"$f":"IF($AB$35=0,0,IF(AB25>=$AB$35,1,0))","v":0},null,{"$f":"N25+R25+V25+Z25+AD25","v":0},null,{"$f":"IF(AF25>0,CONCATENATE(\"LISTA \",E25),\"\")","v":""}]
[]
[null,null,null,null,5,null,{"$f":"IF(B40=0,\"No Lista\",UPPER(C27))","v":"No Lista"},null,null,null,null,{"$f":"IF(J27=0,0,(J27/$E$10))","v":0},null,{"$f":"IF(J27=0,0,INT(J27/$J$12))","v":0},null,{"$f":"IF(J27=0,0,MOD(J27,$J$12))","v":0},null,{"$f":"IF(J27=0,0,IF($P$35=0,0,IF(P27>=$P$35,1,0)))","v":0},null,{"$f":"IF(J27=0,0,IF(J27-((N27+R27)*$J$12)<0,0,J27-((N27+R27)*$J$12)))","v":0},null,{"$f":"IF(J27=0,0,IF($T$35=0,0,IF(T27>=$T$35,1,0)))","v":0},null,{"$f":"IF(J27=0,0,IF(J27-((N27+R27+V27)*$J$12)<0,0,J27-((N27+R27+V27)*$J$12)))","v":0},null,{"$f":"IF($X$35=0,0,IF(X27>=$X$35,1,0))","v":0},null,{"$f":"IF(J27=0,0,IF(J27-((N27+R27+V27+Z27)*$J$12)<0,0,J27-((N27+R27+V27+Z27)*$J$12)))","v":0},null,{"$f":"IF($AB$35=0,0,IF(AB27>=$AB$35,1,0))","v":0},null,{"$f":"N27+R27+V27+Z27+AD27","v":0},null,{"$f":"IF(AF27>0,CONCATENATE(\"LISTA \",E27),\"\")","v":""}]
[]
[null,null,null,null,6,null,{"$f":"IF(B41=0,\"No Lista\",UPPER(C29))","v":"No Lista"},null,null,null,null,{"$f":"IF(J29=0,0,(J29/$E$10))","v":0},null,{"$f":"IF(J29=0,0,INT(J29/$J$12))","v":0},null,{"$f":"IF(J29=0,0,MOD(J29,$J$12))","v":0},null,{"$f":"IF(J29=0,0,IF($P$35=0,0,IF(P29>=$P$35,1,0)))","v":0},null,{"$f":"IF(J29=0,0,IF(J29-((N29+R29)*$J$12)<0,0,J29-((N29+R29)*$J$12)))","v":0},null,{"$f":"IF(J29=0,0,IF($T$35=0,0,IF(T29>=$T$35,1,0)))","v":0},null,{"$f":"IF(J29=0,0,IF(J29-((N29+R29+V29)*$J$12)<0,0,J29-((N29+R29+V29)*$J$12)))","v":0},null,{"$f":"IF($X$35=0,0,IF(X29>=$X$35,1,0))","v":0},null,{"$f":"IF(J29=0,0,IF(J29-((N29+R29+V29+Z29)*$J$12)<0,0,J29-((N29+R29+V29+Z29)*$J$12)))","v":0},null,{"$f":"IF($AB$35=0,0,IF(AB29>=$AB$35,1,0))","v":0},null,{"$f":"N29+R29+V29+Z29+AD29","v":0},null,{"$f":"IF(AF29>0,CONCATENATE(\"LISTA \",E29),\"\")","v":""}]
[]
[null,null,null,null,7,null,{"$f":"IF(B42=0,\"No Lista\",UPPER(C31))","v":"No Lista"},null,null,null,null,{"$f":"IF(J31=0,0,(J31/$E$10))","v":0},null,{"$f":"IF(J31=0,0,INT(J31/$J$12))","v":0},null,{"$f":"IF(J31=0,0,MOD(J31,$J$12))","v":0},null,{"$f":"IF(J31=0,0,IF($P$35=0,0,IF(P31>=$P$35,1,0)))","v":0},null,{"$f":"IF(J31=0,0,IF(J31-((N31+R31)*$J$12)<0,0,J31-((N31+R31)*$J$12)))","v":0},null,{"$f":"IF(J31=0,0,IF($T$35=0,0,IF(T31>=$T$35,1,0)))","v":0},null,{"$f":"IF(J31=0,0,IF(J31-((N31+R31+V31)*$J$12)<0,0,J31-((N31+R31+V31)*$J$12)))","v":0},null,{"$f":"IF($X$35=0,0,IF(X31>=$X$35,1,0))","v":0},null,{"$f":"IF(J31=0,0,IF(J31-((N31+R31+V31+Z31)*$J$12)<0,0,J31-((N31+R31+V31+Z31)*$J$12)))","v":0},null,{"$f":"IF($AB$35=0,0,IF(AB31>=$AB$35,1,0))","v":0},null,{"$f":"N31+R31+V31+Z31+AD31","v":0},null,{"$f":"IF(AF31>0,CONCATENATE(\"LISTA \",E31),\"\")","v":""}]
[]
[null,null,null,null,8,null,{"$f":"IF(B43=0,\"No Lista\",UPPER(C33))","v":"No Lista"},null,null,null,null,{"$f":"IF(J33=0,0,(J33/$E$10))","v":0},null,{"$f":"IF(J33=0,0,INT(J33/$J$12))","v":0},null,{"$f":"IF(J33=0,0,MOD(J33,$J$12))","v":0},null,{"$f":"IF(J33=0,0,IF($P$35=0,0,IF(P33>=$P$35,1,0)))","v":0},null,{"$f":"IF(J33=0,0,IF(J33-((N33+R33)*$J$12)<0,0,J33-((N33+R33)*$J$12)))","v":0},null,{"$f":"IF(J33=0,0,IF($T$35=0,0,IF(T33>=$T$35,1,0)))","v":0},null,{"$f":"IF(J33=0,0,IF(J33-((N33+R33+V33)*$J$12)<0,0,J33-((N33+R33+V33)*$J$12)))","v":0},null,{"$f":"IF($X$35=0,0,IF(X33>=$X$35,1,0))","v":0},null,{"$f":"IF(J33=0,0,IF(J33-((N33+R33+V33+Z33)*$J$12)<0,0,J33-((N33+R33+V33+Z33)*$J$12)))","v":0},null,{"$f":"IF($AB$35=0,0,IF(AB33>=$AB$35,1,0))","v":0},null,{"$f":"N33+R33+V33+Z33+AD33","v":0},null,{"$f":"IF(AF33>0,CONCATENATE(\"LISTA \",E33),\"\")","v":""}]
[]
[null,null,"TOTALE RISULTATO",null,null,null,null,null,null,{"$f":"J19+J21+J23+J25+J27+J29+J31+J33+E12+E14","v":0},null,{"$f":"L19+L21+L23+L25+L27+L29+L31+L33","v":0},null,{"$f":"N19+N21+N23+N25+N27+N29+N31+N33","v":0},null,{"$f":"IF(N35=J8,0,MAX(P19:P33))","v":0},null,{"$f":"R19+R21+R23+R25+R27+R29+R31+R33","v":0},null,{"$f":"IF(N35+R35=J8,0,MAX(T19:T33))","v":0},null,{"$f":"V19+V21+V23+V25+V27+V29+V31+V33","v":0},null,{"$f":"IF((N35+R35+V35)=J8,0,MAX(X19:X33))","v":0},null,{"$f":"Z19+Z21+Z23+Z25+Z27+Z29+Z31+Z33","v":0},null,{"$f":"IF((N35+R35+V35+Z35)=J8,0,MAX(AB19:AB33))","v":0},null,{"$f":"AD19+AD21+AD23+AD25+AD27+AD29+AD31+AD33","v":0},null,{"$f":"AF19+AF21+AF23+AF25+AF27+AF29+AF31+AF33","v":0}]
[1,{"$f":"LEN(C19)","v":0},null,null,null,null,null,null,null,{"$f":"IF((E12+E14+J19+J21+J23+J25+J27+J29+J31+J33)<>E10,\"Voti non congruenti- Ricontrollare\",\"\")","v":""}]
[2,{"$f":"LEN(C21)","v":0}]
[3,{"$f":"LEN(C23)","v":0}]
[4,{"$f":"LEN(C25)","v":0}]
[5,{"$f":"LEN(C27)","v":0}]
[6,{"$f":"LEN(C29)","v":0}]
[7,{"$f":"LEN(C31)","v":0}]
[8,{"$f":"LEN(C33)","v":0},null,null,null,null,null,null,null,null,null,{"$f":"IF(E8=0,0,E10/E8)","v":0}]
[null,"© Don Lam"]

{"sheet":"VERBALE","index":1,"n_rows":38,"n_cols":12,"rows_kept":38,"cut":false,"hidden":false,"merged":[[37,0,37,1],[37,3,37,4],[37,6,37,7],[37,9,37,10],[9,9,10,9],[16,0,17,0],[12,0,12,11],[22,5,22,6],[34,0,34,1],[34,3,34,4],[34,6,34,7],[34,9,34,10],[4,13,4,14],[6,0,7,0],[0,0,0,11],[20,0,20,11],[2,2,2,3],[4,2,4,3],[4,6,4,7],[6,1,7,1],[9,0,10,0],[7,5,8,6],[7,7,8,7],[7,8,8,8],[9,8,10,8],[9,7,10,7]]}
["VERBALE DELLE ELEZIONI DELLA R.S.U. - 3 - 4 -5 Marzo 2015"]
[]
["AMMINISTRAZIONE",null,{"$f":"IF('CALCOLO SEGGI'!E5=\"\",\"\",'CALCOLO SEGGI'!E5)","v":""},null,null,"Comparto","SCUOLA",null,null,"Data elezioni ","  3 - 4 - 5 - marzo 2015"]
[]
["INDIRIZZO",null,null,null,null,"Comune",{"$f":"IF('CALCOLO SEGGI'!R5=\"\",\"\",'CALCOLO SEGGI'!R5)","v":""},null,"Provincia",null,"Regione"]
[]
["Collegio"]
[null,null,null,null,null,"TOTALE",null,"TOTALE GENERALE","% Validità elezioni"]
["Aventi Diritto",{"$f":"'CALCOLO SEGGI'!E8","v":0}]
["Votanti","Maschi","Femmine",null,null,"Maschi","Femmine",{"$f":"'CALCOLO SEGGI'!E10","v":0},{"$f":"'CALCOLO SEGGI'!L43","v":0},{"$f":"'CALCOLO SEGGI'!L8","v":"Quorum Raggiunto"}]
[null,{"$f":"'CALCOLO SEGGI'!R8","v":0},{"$f":"'CALCOLO SEGGI'!R10","v":0},null,null,{"$f":"B11","v":0},{"$f":"C11","v":0}]
[]
["RISULTATI"]
[]
["Schede Valide",{"$f":"L15-(E15+H15)","v":0},null,"Schede Bianche",{"$f":"'CALCOLO SEGGI'!E12","v":0},null,"Schede Nullle",{"$f":"'CALCOLO SEGGI'!E14","v":0},null,"Totale Schede Scrutinate",null,{"$f":"'CALCOLO SEGGI'!E10","v":0}]
[]
["NOME O.S. Proponente","Lista 1","Lista 2","Lista 3","Lista 4","Lista 5","Lista 6","Lits 7","Lista 8"]
[null,{"$f":"'CALCOLO SEGGI'!G19","v":"No Lista"},{"$f":"'CALCOLO SEGGI'!G21","v":"No Lista"},{"$f":"'CALCOLO SEGGI'!G23","v":"No Lista"},{"$f":"'CALCOLO SEGGI'!G25","v":"No Lista"},{"$f":"'CALCOLO SEGGI'!G27","v":"No Lista"},{"$f":"'CALCOLO SEGGI'!G29","v":"No Lista"},{"$f":"'CALCOLO SEGGI'!G29","v":"No Lista"},{"$f":"'CALCOLO SEGGI'!G33","v":"No Lista"}]
["Voti",{"$f":"'CALCOLO SEGGI'!J19","v":0},{"$f":"'CALCOLO SEGGI'!J21","v":0},{"$f":"'CALCOLO SEGGI'!J23","v":0},{"$f":"'CALCOLO SEGGI'!J25","v":0},{"$f":"'CALCOLO SEGGI'!J27","v":0},{"$f":"'CALCOLO SEGGI'!J29","v":0},{"$f":"'CALCOLO SEGGI'!J31","v":0},{"$f":"'CALCOLO SEGGI'!J33","v":0}]
[]
["RIPARTIZIONE SEGGI"]
[]
["Aventi diritto",{"$f":"'CALCOLO SEGGI'!E8","v":0},null,"Votanti",{"$f":"'CALCOLO SEGGI'!E10","v":0},"Seggi da ripartire",null,{"$f":"'CALCOLO SEGGI'!J8","v":0}]
[]
[]
[null,"Lista 1","Lista 2","Lista 3","Lista 4","Lista 5","Lista 6","Lits 7","Lista 8"]
["Voti ottenuti",{"$f":"'CALCOLO SEGGI'!J19","v":0},{"$f":"'CALCOLO SEGGI'!J21","v":0},{"$f":"'CALCOLO SEGGI'!J23","v":0},{"$f":"'CALCOLO SEGGI'!J25","v":0},{"$f":"'CALCOLO SEGGI'!J27","v":0},{"$f":"'CALCOLO SEGGI'!J29","v":0},{"$f":"'CALCOLO SEGGI'!J31","v":0},{"$f":"'CALCOLO SEGGI'!J33","v":0}]
["Seggi assegnati",{"$f":"'CALCOLO SEGGI'!N19","v":0},{"$f":"'CALCOLO SEGGI'!N21","v":0},{"$f":"'CALCOLO SEGGI'!N23","v":0},{"$f":"'CALCOLO SEGGI'!N25","v":0},{"$f":"'CALCOLO SEGGI'!N27","v":0},{"$f":"'CALCOLO SEGGI'!N29","v":0},{"$f":"'CALCOLO SEGGI'!N31","v":0},{"$f":"'CALCOLO SEGGI'!N33","v":0}]
["Seggi attribuiti",{"$f":"'CALCOLO SEGGI'!R19+'CALCOLO SEGGI'!V19+'CALCOLO SEGGI'!Z19+'CALCOLO SEGGI'!AD19","v":0},{"$f":"'CALCOLO SEGGI'!R21+'CALCOLO SEGGI'!V21+'CALCOLO SEGGI'!Z21+'CALCOLO SEGGI'!AD21","v":0},{"$f":"'CALCOLO SEGGI'!R23+'CALCOLO SEGGI'!V23+'CALCOLO SEGGI'!Z23+'CALCOLO SEGGI'!AD23","v":0},{"$f":"'CALCOLO SEGGI'!R25+'CALCOLO SEGGI'!V25+'CALCOLO SEGGI'!Z25+'CALCOLO SEGGI'!AD25","v":0},{"$f":"'CALCOLO SEGGI'!R27+'CALCOLO SEGGI'!V27+'CALCOLO SEGGI'!Z27+'CALCOLO SEGGI'!AD27","v":0},{"$f":"'CALCOLO SEGGI'!R29+'CALCOLO SEGGI'!V29+'CALCOLO SEGGI'!Z29+'CALCOLO SEGGI'!AD29","v":0},{"$f":"'CALCOLO SEGGI'!R31+'CALCOLO SEGGI'!V31+'CALCOLO SEGGI'!Z31+'CALCOLO SEGGI'!AD31","v":0},{"$f":"'CALCOLO SEGGI'!R33+'CALCOLO SEGGI'!V33+'CALCOLO SEGGI'!Z33+'CALCOLO SEGGI'!AD33","v":0}]
["Totale seggi",{"$f":"'CALCOLO SEGGI'!AF19","v":0},{"$f":"'CALCOLO SEGGI'!AF21","v":0},{"$f":"'CALCOLO SEGGI'!AF23","v":0},{"$f":"'CALCOLO SEGGI'!AF25","v":0},{"$f":"'CALCOLO SEGGI'!AD27","v":0},{"$f":"'CALCOLO SEGGI'!AF29","v":0},{"$f":"'CALCOLO SEGGI'!AF31","v":0},{"$f":"'CALCOLO SEGGI'!AF33","v":0}]
[]
["La Commissione elettorale"]
[]
[]
["Nome e Cogmome Presidente",null,null,"Nome e Cognome Componente",null,null,"Nome e Cognome Componente",null,null,"Nome e Cognome Componente"]
[]
[]
["Nome e Cognome Componente",null,null,"Nome e Cognome Componente",null,null,"Nome e Cognome Componente",null,null,"Nome e Cognome Componente"]